BEGIN:VCALENDAR
VERSION:1.0
BEGIN:VEVENT
UID:i-event-456
SUMMARY: Event Cottowood Corner Work Party
DESCRIPTION;ENCODING=QUOTED-PRINTABLE:🌍 April Volunteer Event – Celebrate Earth Month at Cottonwood Corner! 
 Join us this April to celebrate Earth Month with a restoration work party at Cottonwood Corner. Forest Stewards Heidi and Greta will lead us in removing invasive plants and caring for the young native shrubs along Riverton Creek. This is a family-friendly event, welcoming all ages. Bring a picnic, stay a while, and be part of building a healthier forest for our community and wildlife.
LOCATION:Riverton Creek
DTSTART:20260409T110000
DTEND:20260409T140000
END:VEVENT
END:VCALENDAR
