BEGIN:VCALENDAR
VERSION:1.0
BEGIN:VEVENT
UID:i-event-437
SUMMARY: Event Conner Homes at Crystal Springs Park
DESCRIPTION;ENCODING=QUOTED-PRINTABLE:Conner Homes (One of the only local home builders left in Seattle) will be doing a planting event with Forterra on this date.
LOCATION:Crystal Springs Park
DTSTART:20251027T090000
DTEND:20251027T110000
END:VEVENT
END:VCALENDAR
