BEGIN:VCALENDAR
VERSION:1.0
BEGIN:VEVENT
UID:i-event-400
SUMMARY: Event Green Tukwila Day @ Duwamish Hill Preserve
DESCRIPTION;ENCODING=QUOTED-PRINTABLE:The Great Camas Planting!

Join Forest Stewards and your community for a hands-on day of restoration at Tukwila’s natural areas! We’ll be planting camas, a culturally significant plant of the Salish people, alongside other native understory plants to help restore habitat, support urban wildlife, and honor Indigenous traditions.

No experience is necessary—tools, gloves, and training will be provided on site. Bring your curiosity, energy, and love for the outdoors, and help us grow a healthier, greener Tukwila together!
LOCATION:Duwamish Hill Preserve
DTSTART:20251115T100000
DTEND:20251115T130000
END:VEVENT
END:VCALENDAR
