BEGIN:VCALENDAR
VERSION:1.0
BEGIN:VEVENT
UID:i-event-392
SUMMARY: Event Restoration at Riverton, last work party 2025~!
DESCRIPTION;ENCODING=QUOTED-PRINTABLE:Join local neighbor and forest Steward Debbie for an afternoon impacting the environment. Invasive English ivy and Himalayan blackberry threaten Riverton Park&#x27;s large trees, which are essential habitats for large raptors and wildlife. We aim to reestablish a healthy urban forest to border the community park. This exemplifies how Tukwila can support urban wildlife within the park’s systems.

All tools, materials and training will be provided at the start of the work party.

Restrooms are on-site May-October. Otherwise, you may use the restroom at the Tukwila Community Center quick drive down the street.
LOCATION:Riverton Park
DTSTART:20251209T113000
DTEND:20251209T133000
END:VEVENT
END:VCALENDAR
