BEGIN:VCALENDAR
VERSION:2.0
METHOD:PUBLISH
PRODID:-//CLC//v1.0//EN
X-WR-TIMEZONE:US/Pacific
CALSCALE:GREGORIAN
BEGIN:VEVENT
UID:-event-391
DTSTAMP:20251111T113000
DTSTART:20251111T113000
DTEND:20251111T133000
SUMMARY: Event Planting at Riverton Park
LOCATION:Riverton Park
ORGANIZER;CN=Olena Perry
CATEGORIES:Work Party
CLASS:PUBLIC
CONTACT:Olena.Perry@tukwilawa.gov
END:VEVENT
END:VCALENDAR
